BEGIN:VCALENDAR
VERSION:2.0
PRODID:-//Trainwest Online Academy - ECPv6.15.12.2//NONSGML v1.0//EN
CALSCALE:GREGORIAN
METHOD:PUBLISH
X-WR-CALNAME:Trainwest Online Academy
X-ORIGINAL-URL:https://trainwest.ca
X-WR-CALDESC:Events for Trainwest Online Academy
REFRESH-INTERVAL;VALUE=DURATION:PT1H
X-Robots-Tag:noindex
X-PUBLISHED-TTL:PT1H
BEGIN:VTIMEZONE
TZID:UTC
BEGIN:STANDARD
TZOFFSETFROM:+0000
TZOFFSETTO:+0000
TZNAME:UTC
DTSTART:20210101T000000
END:STANDARD
END:VTIMEZONE
BEGIN:VEVENT
DTSTART;TZID=UTC:20220617T090000
DTEND;TZID=UTC:20220617T100000
DTSTAMP:20260420T035101
CREATED:20220104T001844Z
LAST-MODIFIED:20220104T001844Z
UID:8280-1655456400-1655460000@trainwest.ca
SUMMARY:Group Coaching Call – Management Training & Development Training
DESCRIPTION:
URL:https://trainwest.ca/event/group-coaching-call-management-training-development-training-50/
LOCATION:Trainwest – Online Webinar
CATEGORIES:Group Coaching - Leadership
ORGANIZER;CN="Trainwest Online Academy":MAILTO:info@trainwest.ca
END:VEVENT
BEGIN:VEVENT
DTSTART;TZID=UTC:20220617T080000
DTEND;TZID=UTC:20220617T090000
DTSTAMP:20260420T035101
CREATED:20220103T234756Z
LAST-MODIFIED:20220103T234756Z
UID:8231-1655452800-1655456400@trainwest.ca
SUMMARY:Group Coaching Call – Sales Training & Development Training
DESCRIPTION:
URL:https://trainwest.ca/event/group-coaching-call-sales-training-development-training-53/
LOCATION:Trainwest – Online Webinar
CATEGORIES:Group Coaching - Sales
ORGANIZER;CN="Trainwest Online Academy":MAILTO:info@trainwest.ca
END:VEVENT
BEGIN:VEVENT
DTSTART;TZID=UTC:20220614T080000
DTEND;TZID=UTC:20220614T093000
DTSTAMP:20260420T035101
CREATED:20220104T003352Z
LAST-MODIFIED:20220104T003352Z
UID:8303-1655193600-1655199000@trainwest.ca
SUMMARY:Goal Setting – Accountability – Evaluation - Sales Training & Development Program
DESCRIPTION:Seminar Description:\nAristotle’s form of final causality is believed to be the origin of goal setting. Aristotle speculated that purpose can cause action and that there is a positive relationship  between clearly identified goals and performance. Goal setting involves the development of a plan designed to properly motivate and guide an individual to an end result. \nIn this session we will look at the goal-performance relationship\, criteria needed to establish goals\, how motivational theory can impact goals and individual accountability and  the relationship between personal and corporate goals. \nKey Learning Points: \n\nLearn and understand “Motivational Theory”\nUnderstand the relationship between goals and performance/li>\nUnderstand the criteria required to establish goals which will be achieved\nLearn how to hold yourself (and others) accountable to achieve the goals committed to
URL:https://trainwest.ca/event/goal-setting-accountability-evaluation-sales-training-development-program-2/
LOCATION:Trainwest – Online Webinar
CATEGORIES:Sales Training & Development Program
ORGANIZER;CN="Trainwest Online Academy":MAILTO:info@trainwest.ca
END:VEVENT
BEGIN:VEVENT
DTSTART;TZID=UTC:20220607T080000
DTEND;TZID=UTC:20220607T093000
DTSTAMP:20260420T035101
CREATED:20220104T003234Z
LAST-MODIFIED:20220104T003234Z
UID:8301-1654588800-1654594200@trainwest.ca
SUMMARY:Interactive / Practice / Role-Play – Sales Training & Development Program
DESCRIPTION:
URL:https://trainwest.ca/event/interactive-practice-role-play-sales-training-development-program-11/
LOCATION:Trainwest – Online Webinar
CATEGORIES:Sales Training & Development Program
ORGANIZER;CN="Trainwest Online Academy":MAILTO:info@trainwest.ca
END:VEVENT
BEGIN:VEVENT
DTSTART;TZID=UTC:20220603T090000
DTEND;TZID=UTC:20220603T100000
DTSTAMP:20260420T035101
CREATED:20220104T001819Z
LAST-MODIFIED:20220104T001819Z
UID:8278-1654246800-1654250400@trainwest.ca
SUMMARY:Group Coaching Call – Management Training & Development Training
DESCRIPTION:
URL:https://trainwest.ca/event/group-coaching-call-management-training-development-training-49/
LOCATION:Trainwest – Online Webinar
CATEGORIES:Group Coaching - Leadership
ORGANIZER;CN="Trainwest Online Academy":MAILTO:info@trainwest.ca
END:VEVENT
BEGIN:VEVENT
DTSTART;TZID=UTC:20220603T080000
DTEND;TZID=UTC:20220603T090000
DTSTAMP:20260420T035101
CREATED:20220103T234658Z
LAST-MODIFIED:20220103T234658Z
UID:8229-1654243200-1654246800@trainwest.ca
SUMMARY:Group Coaching Call – Sales Training & Development Training
DESCRIPTION:
URL:https://trainwest.ca/event/group-coaching-call-sales-training-development-training-52/
LOCATION:Trainwest – Online Webinar
CATEGORIES:Group Coaching - Sales
ORGANIZER;CN="Trainwest Online Academy":MAILTO:info@trainwest.ca
END:VEVENT
BEGIN:VEVENT
DTSTART;TZID=UTC:20220531T080000
DTEND;TZID=UTC:20220531T093000
DTSTAMP:20260420T035101
CREATED:20220104T003138Z
LAST-MODIFIED:20220104T003138Z
UID:8298-1653984000-1653989400@trainwest.ca
SUMMARY:Dealing with Change – Sales Training & Development Program
DESCRIPTION:Seminar Description:\nIf companies are to remain competitive in today’s business climate they must undergo change and be able to respond quickly to global\, market or local changes. \nAs a leader you have the responsibility to manage change in your area – to prepare yourself and your team to deal with\, and accept\, what is to come. \nIn this session we will look at 3 views for transforming organizations through change\, review the steps people go through dealing with change and the leaders role in the change process. \nKey Learning Points: \n\nLearn and understand three (3) views of Organizational Change\nUnderstand the steps people go through dealing with change\nUnderstand the leader’s role in the change process\nLearn how best to facilitate change within your team
URL:https://trainwest.ca/event/dealing-with-change-sales-training-development-program-3/
LOCATION:Trainwest – Online Webinar
CATEGORIES:Sales Training & Development Program
ORGANIZER;CN="Trainwest Online Academy":MAILTO:info@trainwest.ca
END:VEVENT
BEGIN:VEVENT
DTSTART;TZID=UTC:20220524T080000
DTEND;TZID=UTC:20220524T170000
DTSTAMP:20260420T035101
CREATED:20220104T003043Z
LAST-MODIFIED:20220104T003043Z
UID:8296-1653379200-1653411600@trainwest.ca
SUMMARY:Understanding How People Make Decisions – Sales Training & Development Program
DESCRIPTION:Seminar Description:\nHow someone makes a buying decision should not be a mystery. Whether you are dealing with an individual\, small to mid-size company or enterprise organization\, understanding the buyer’s decision process earlier rather than later on in the selling cycle helps the sales person be more efficient and effective with their time. Positioning yourself properly in reference to your prospect should increase the likelihood the deal will proceed in a favorable manor. \nIn this session we will review strategies on how to position yourself and company properly in regards to your prospect; understand the prospects cast of characters and influence ability and understand key issues influencing people’s decisions. You will also learn how to skillfully question prospects to uncover this information. You will learn how to determine the players\, the influence ability of each player\, specific elements of their process\, and the time frame for the decision. \nKey Learning Points: \n\nLearn how to skillfully question prospects to uncover their decision process\nLearn techniques on how to determine who the players are and the influence ability of each player/li>\nLearn strategies and techniques to position your information to deal with the prospects decision process
URL:https://trainwest.ca/event/understanding-how-people-make-decisions-sales-training-development-program-5/
LOCATION:Trainwest – Online Webinar
CATEGORIES:Sales Training & Development Program
ORGANIZER;CN="Trainwest Online Academy":MAILTO:info@trainwest.ca
END:VEVENT
BEGIN:VEVENT
DTSTART;TZID=UTC:20220520T090000
DTEND;TZID=UTC:20220520T100000
DTSTAMP:20260420T035101
CREATED:20220104T001748Z
LAST-MODIFIED:20220104T001748Z
UID:8276-1653037200-1653040800@trainwest.ca
SUMMARY:Group Coaching Call – Management Training & Development Training
DESCRIPTION:
URL:https://trainwest.ca/event/group-coaching-call-management-training-development-training-48/
LOCATION:Trainwest – Online Webinar
CATEGORIES:Group Coaching - Leadership
ORGANIZER;CN="Trainwest Online Academy":MAILTO:info@trainwest.ca
END:VEVENT
BEGIN:VEVENT
DTSTART;TZID=UTC:20220520T080000
DTEND;TZID=UTC:20220520T090000
DTSTAMP:20260420T035101
CREATED:20220103T234627Z
LAST-MODIFIED:20220103T234627Z
UID:8227-1653033600-1653037200@trainwest.ca
SUMMARY:Group Coaching Call – Sales Training & Development Training
DESCRIPTION:
URL:https://trainwest.ca/event/group-coaching-call-sales-training-development-training-51/
LOCATION:Trainwest – Online Webinar
CATEGORIES:Group Coaching - Sales
ORGANIZER;CN="Trainwest Online Academy":MAILTO:info@trainwest.ca
END:VEVENT
BEGIN:VEVENT
DTSTART;TZID=UTC:20220517T110000
DTEND;TZID=UTC:20220517T120000
DTSTAMP:20260420T035101
CREATED:20220104T002943Z
LAST-MODIFIED:20220517T042705Z
UID:8294-1652785200-1652788800@trainwest.ca
SUMMARY:TIME CHANGE: Transactional Analysis – Sales Training & Development Program
DESCRIPTION:Seminar Description:\nTo be an individual on the front-line we need a slight edge to better connect with people; understanding our customers is central to helping them with their problems. Much of our personality is shaped by early childhood influences and teachings – messages that we carry with us throughout our lives. Here you will learn about the foundations of Transactional Analysis\, a model for Understanding Human Personality\, Relationships and Communication. \nAll our early life experiences are assembled into a unique set of beliefs about ourselves\, others and the world\, our ‘Frame of Reference’. This frame is like a distorting lens through which we view life and which gives us a unique personal concept of ‘reality’. Our FoR guides us throughout life unless changed by developing awareness and making decisions to change what we believe. \nIn this session we will review how this model relates to the those on the front-line. We will explore how the components of people’s personality influence their behavior. You will learn how to identify repetitive\, non-productive behavior and how to replace it with more appropriate behavior. \nKey Learning Points: \n\nLearn about three (3) “Emotional States” which govern our Thoughts\, Feelings and Behaviours during any conversation\nUnderstand the three (3) Rules of Communication\nUnderstand how the Drama (Game) Triangle relates to the mind games people play
URL:https://trainwest.ca/event/transactional-analysis-sales-training-development-program-3/
LOCATION:Trainwest – Online Webinar
CATEGORIES:Sales Training & Development Program
ORGANIZER;CN="Trainwest Online Academy":MAILTO:info@trainwest.ca
END:VEVENT
BEGIN:VEVENT
DTSTART;TZID=UTC:20220513T080000
DTEND;TZID=UTC:20220513T093000
DTSTAMP:20260420T035101
CREATED:20220104T002807Z
LAST-MODIFIED:20220510T051032Z
UID:8292-1652428800-1652434200@trainwest.ca
SUMMARY:Socratic Questioning – Sales Training & Development Program
DESCRIPTION:Seminar Description:\nSocratic method of questioning is a form of cooperative argumentative dialogue between individuals\, based on asking and answering questions to stimulate critical thinking and to draw out ideas and underlying presumptions. \nEstablishing rules is not a hard process\, but consistency in its implementation is. \nKey Learning Points: \n\nLearn how to ask questions using the ‘negative reverse’ method.\nLearn how to ask questions that guide the conversation to your benefit./li>\nUncover the real reasons for wanting to do business and qualify in/out within the first five minutes.
URL:https://trainwest.ca/event/socratic-questioning-sales-training-development-program-3/
LOCATION:Trainwest – Online Webinar
CATEGORIES:Sales Training & Development Program
ORGANIZER;CN="Trainwest Online Academy":MAILTO:info@trainwest.ca
END:VEVENT
BEGIN:VEVENT
DTSTART;TZID=UTC:20220506T090000
DTEND;TZID=UTC:20220506T100000
DTSTAMP:20260420T035101
CREATED:20220104T001716Z
LAST-MODIFIED:20220104T001716Z
UID:8274-1651827600-1651831200@trainwest.ca
SUMMARY:Group Coaching Call – Management Training & Development Training
DESCRIPTION:
URL:https://trainwest.ca/event/group-coaching-call-management-training-development-training-47/
LOCATION:Trainwest – Online Webinar
CATEGORIES:Group Coaching - Leadership
ORGANIZER;CN="Trainwest Online Academy":MAILTO:info@trainwest.ca
END:VEVENT
BEGIN:VEVENT
DTSTART;TZID=UTC:20220506T080000
DTEND;TZID=UTC:20220506T093000
DTSTAMP:20260420T035101
CREATED:20220103T234558Z
LAST-MODIFIED:20220103T234558Z
UID:8225-1651824000-1651829400@trainwest.ca
SUMMARY:Group Coaching Call – Sales Training & Development Training
DESCRIPTION:
URL:https://trainwest.ca/event/group-coaching-call-sales-training-development-training-50/
LOCATION:Trainwest – Online Webinar
CATEGORIES:Group Coaching - Sales
ORGANIZER;CN="Trainwest Online Academy":MAILTO:info@trainwest.ca
END:VEVENT
BEGIN:VEVENT
DTSTART;TZID=UTC:20220422T090000
DTEND;TZID=UTC:20220422T100000
DTSTAMP:20260420T035101
CREATED:20220104T001638Z
LAST-MODIFIED:20220104T001638Z
UID:8272-1650618000-1650621600@trainwest.ca
SUMMARY:Group Coaching Call – Management Training & Development Training
DESCRIPTION:
URL:https://trainwest.ca/event/group-coaching-call-management-training-development-training-46/
LOCATION:Trainwest – Online Webinar
CATEGORIES:Group Coaching - Leadership
ORGANIZER;CN="Trainwest Online Academy":MAILTO:info@trainwest.ca
END:VEVENT
BEGIN:VEVENT
DTSTART;TZID=UTC:20220422T080000
DTEND;TZID=UTC:20220422T093000
DTSTAMP:20260420T035101
CREATED:20220103T234518Z
LAST-MODIFIED:20220103T234518Z
UID:8223-1650614400-1650619800@trainwest.ca
SUMMARY:Group Coaching Call – Sales Training & Development Training
DESCRIPTION:
URL:https://trainwest.ca/event/group-coaching-call-sales-training-development-training-49/
LOCATION:Trainwest – Online Webinar
CATEGORIES:Group Coaching - Sales
ORGANIZER;CN="Trainwest Online Academy":MAILTO:info@trainwest.ca
END:VEVENT
BEGIN:VEVENT
DTSTART;TZID=UTC:20220419T080000
DTEND;TZID=UTC:20220419T093000
DTSTAMP:20260420T035101
CREATED:20220104T002201Z
LAST-MODIFIED:20220104T002201Z
UID:8286-1650355200-1650360600@trainwest.ca
SUMMARY:Fundamentals of Reading Body Language - Sales Training & Development Program
DESCRIPTION:Seminar Description:\nIn this session\, learn why reading and understanding body language is essential in sales. \nKey Learning Points: \n\nHow and why reading body language can help you increase your sales\nLearn why eye contact is so important and the meaning of gaze behaviour\nLearn 10 essentials for reading people\nUnderstand why and how handshakes can make or break your sale
URL:https://trainwest.ca/event/fundamentals-of-reading-body-language-sales-training-development-program-2/
LOCATION:Trainwest – Online Webinar
CATEGORIES:Sales Training & Development Program
ORGANIZER;CN="Trainwest Online Academy":MAILTO:info@trainwest.ca
END:VEVENT
BEGIN:VEVENT
DTSTART;TZID=UTC:20220412T080000
DTEND;TZID=UTC:20220412T093000
DTSTAMP:20260420T035101
CREATED:20220104T002101Z
LAST-MODIFIED:20220104T002101Z
UID:8284-1649750400-1649755800@trainwest.ca
SUMMARY:Life Lessons From Inspirational Leaders - Sales Training & Development Program
DESCRIPTION:Seminar Description:\nThere are inspirational leaders we all know of or have heard of who we can learn from. When you think of inspirational leaders\, who comes to mind? These  inspirational leaders can teach us life lessons if we keep our mind open and are willing to let others in. These individuals inspire us all to achieve more\, make the world a better place\, and to never give up on our dreams\, no matter how big or small they may be. \nIn this session we will review life lessons from others and see how you can implement into your daily activities
URL:https://trainwest.ca/event/life-lessons-from-inspirational-leaders-sales-training-development-program-4/
LOCATION:Trainwest – Online Webinar
CATEGORIES:Sales Training & Development Program
ORGANIZER;CN="Trainwest Online Academy":MAILTO:info@trainwest.ca
END:VEVENT
BEGIN:VEVENT
DTSTART;TZID=UTC:20220408T090000
DTEND;TZID=UTC:20220408T100000
DTSTAMP:20260420T035101
CREATED:20220104T001608Z
LAST-MODIFIED:20220104T001608Z
UID:8270-1649408400-1649412000@trainwest.ca
SUMMARY:Group Coaching Call – Management Training & Development Training
DESCRIPTION:
URL:https://trainwest.ca/event/group-coaching-call-management-training-development-training-45/
LOCATION:Trainwest – Online Webinar
CATEGORIES:Group Coaching - Leadership
ORGANIZER;CN="Trainwest Online Academy":MAILTO:info@trainwest.ca
END:VEVENT
BEGIN:VEVENT
DTSTART;TZID=UTC:20220408T080000
DTEND;TZID=UTC:20220408T093000
DTSTAMP:20260420T035101
CREATED:20220103T234450Z
LAST-MODIFIED:20220103T234450Z
UID:8220-1649404800-1649410200@trainwest.ca
SUMMARY:Group Coaching Call – Sales Training & Development Training
DESCRIPTION:
URL:https://trainwest.ca/event/group-coaching-call-sales-training-development-training-48/
LOCATION:Trainwest – Online Webinar
CATEGORIES:Group Coaching - Sales
ORGANIZER;CN="Trainwest Online Academy":MAILTO:info@trainwest.ca
END:VEVENT
BEGIN:VEVENT
DTSTART;TZID=UTC:20220405T080000
DTEND;TZID=UTC:20220405T093000
DTSTAMP:20260420T035101
CREATED:20220104T001954Z
LAST-MODIFIED:20220104T001954Z
UID:8282-1649145600-1649151000@trainwest.ca
SUMMARY:Interactive / Practice / Role-Play – Sales Training & Development Program
DESCRIPTION:
URL:https://trainwest.ca/event/interactive-practice-role-play-sales-training-development-program-10/
LOCATION:Trainwest – Online Webinar
CATEGORIES:Sales Training & Development Program
ORGANIZER;CN="Trainwest Online Academy":MAILTO:info@trainwest.ca
END:VEVENT
BEGIN:VEVENT
DTSTART;TZID=UTC:20220330T080000
DTEND;TZID=UTC:20220330T100000
DTSTAMP:20260420T035101
CREATED:20220103T235845Z
LAST-MODIFIED:20220103T235845Z
UID:8247-1648627200-1648634400@trainwest.ca
SUMMARY:The Art of Persuasion – Management Training & Development Program
DESCRIPTION:Seminar Description:\nThe days of leaders dealing with others via a command and control philosophy are gone. Today most organizations are run largely by cross functional teams of peers. The use of electronic globalization communication tools has further eroded the traditional management hierarchy. Today work gets completed by employees asking “why should I do it instead of What should I do”. As a leader in order to be effective today you must learn how to Persuade. In this session we will define what persuasion is\, and review the 4 steps to creating an effective persuasive environment.
URL:https://trainwest.ca/event/the-art-of-persuasion-management-training-development-program-2/
LOCATION:Trainwest – Online Webinar
CATEGORIES:Management Training & Development
ORGANIZER;CN="Trainwest Online Academy":MAILTO:info@trainwest.ca
END:VEVENT
BEGIN:VEVENT
DTSTART;TZID=UTC:20220329T080000
DTEND;TZID=UTC:20220329T093000
DTSTAMP:20260420T035101
CREATED:20220104T001458Z
LAST-MODIFIED:20220104T001458Z
UID:8268-1648540800-1648546200@trainwest.ca
SUMMARY:Negotiation and Money – Sales Training & Development Program
DESCRIPTION:
URL:https://trainwest.ca/event/negotiation-and-money-sales-training-development-program-4/
LOCATION:Trainwest – Online Webinar
CATEGORIES:Sales Training & Development Program
ORGANIZER;CN="Trainwest Online Academy":MAILTO:info@trainwest.ca
END:VEVENT
BEGIN:VEVENT
DTSTART;TZID=UTC:20220325T090000
DTEND;TZID=UTC:20220325T100000
DTSTAMP:20260420T035101
CREATED:20220104T000607Z
LAST-MODIFIED:20220104T000624Z
UID:8257-1648198800-1648202400@trainwest.ca
SUMMARY:Group Coaching Call – Management Training & Development Training
DESCRIPTION:
URL:https://trainwest.ca/event/group-coaching-call-management-training-development-training-44/
LOCATION:Trainwest – Online Webinar
CATEGORIES:Group Coaching - Leadership
ORGANIZER;CN="Trainwest Online Academy":MAILTO:info@trainwest.ca
END:VEVENT
BEGIN:VEVENT
DTSTART;TZID=UTC:20220325T080000
DTEND;TZID=UTC:20220325T093000
DTSTAMP:20260420T035101
CREATED:20220103T234410Z
LAST-MODIFIED:20220103T234410Z
UID:8218-1648195200-1648200600@trainwest.ca
SUMMARY:Group Coaching Call – Sales Training & Development Training
DESCRIPTION:
URL:https://trainwest.ca/event/group-coaching-call-sales-training-development-training-47/
LOCATION:Trainwest – Online Webinar
CATEGORIES:Group Coaching - Sales
ORGANIZER;CN="Trainwest Online Academy":MAILTO:info@trainwest.ca
END:VEVENT
BEGIN:VEVENT
DTSTART;TZID=UTC:20220322T080000
DTEND;TZID=UTC:20220322T093000
DTSTAMP:20260420T035101
CREATED:20220104T001352Z
LAST-MODIFIED:20220104T001352Z
UID:8266-1647936000-1647941400@trainwest.ca
SUMMARY:Interactive / Practice / Role-Play – Sales Training & Development Program
DESCRIPTION:
URL:https://trainwest.ca/event/interactive-practice-role-play-sales-training-development-program-9/
LOCATION:Trainwest – Online Webinar
CATEGORIES:Sales Training & Development Program
ORGANIZER;CN="Trainwest Online Academy":MAILTO:info@trainwest.ca
END:VEVENT
BEGIN:VEVENT
DTSTART;TZID=UTC:20220315T080000
DTEND;TZID=UTC:20220315T093000
DTSTAMP:20260420T035101
CREATED:20220104T001248Z
LAST-MODIFIED:20220104T001248Z
UID:8263-1647331200-1647336600@trainwest.ca
SUMMARY:Advanced DISC Model – Sales Training & Development Program
DESCRIPTION:
URL:https://trainwest.ca/event/advanced-disc-model-sales-training-development-program-3/
LOCATION:Trainwest – Online Webinar
CATEGORIES:Sales Training & Development Program
ORGANIZER;CN="Trainwest Online Academy":MAILTO:info@trainwest.ca
END:VEVENT
BEGIN:VEVENT
DTSTART;TZID=UTC:20220311T090000
DTEND;TZID=UTC:20220311T100000
DTSTAMP:20260420T035101
CREATED:20220104T000519Z
LAST-MODIFIED:20220104T000519Z
UID:8255-1646989200-1646992800@trainwest.ca
SUMMARY:Group Coaching Call – Management Training & Development Training
DESCRIPTION:
URL:https://trainwest.ca/event/group-coaching-call-management-training-development-training-43/
LOCATION:Trainwest – Online Webinar
CATEGORIES:Group Coaching - Leadership
ORGANIZER;CN="Trainwest Online Academy":MAILTO:info@trainwest.ca
END:VEVENT
BEGIN:VEVENT
DTSTART;TZID=UTC:20220311T080000
DTEND;TZID=UTC:20220311T090000
DTSTAMP:20260420T035101
CREATED:20220103T234347Z
LAST-MODIFIED:20220103T234347Z
UID:8216-1646985600-1646989200@trainwest.ca
SUMMARY:Group Coaching Call – Sales Training & Development Training
DESCRIPTION:
URL:https://trainwest.ca/event/group-coaching-call-sales-training-development-training-46/
LOCATION:Trainwest – Online Webinar
CATEGORIES:Group Coaching - Sales
ORGANIZER;CN="Trainwest Online Academy":MAILTO:info@trainwest.ca
END:VEVENT
BEGIN:VEVENT
DTSTART;TZID=UTC:20220308T080000
DTEND;TZID=UTC:20220308T093000
DTSTAMP:20260420T035101
CREATED:20220104T000905Z
LAST-MODIFIED:20220104T000905Z
UID:8261-1646726400-1646731800@trainwest.ca
SUMMARY:Reading Body Language to Improve Negotiation - Sales Training & Development Program
DESCRIPTION:Seminar Description:\nIn this session\, learn why reading and understanding body language is essential in sales. \nKey Learning Points: \n\nHow and why reading body language can help you increase your sales\nLearn why eye contact is so important and the meaning of gaze behaviour\nLearn 10 essentials for reading people\nUnderstand why and how handshakes can make or break your sale
URL:https://trainwest.ca/event/reading-body-language-to-improve-negotiation-sales-training-development-program-2/
LOCATION:Trainwest – Online Webinar
CATEGORIES:Sales Training & Development Program
ORGANIZER;CN="Trainwest Online Academy":MAILTO:info@trainwest.ca
END:VEVENT
END:VCALENDAR