BEGIN:VCALENDAR
VERSION:2.0
PRODID:-//Trainwest Online Academy - ECPv6.15.12.2//NONSGML v1.0//EN
CALSCALE:GREGORIAN
METHOD:PUBLISH
X-WR-CALNAME:Trainwest Online Academy
X-ORIGINAL-URL:https://trainwest.ca
X-WR-CALDESC:Events for Trainwest Online Academy
REFRESH-INTERVAL;VALUE=DURATION:PT1H
X-Robots-Tag:noindex
X-PUBLISHED-TTL:PT1H
BEGIN:VTIMEZONE
TZID:UTC
BEGIN:STANDARD
TZOFFSETFROM:+0000
TZOFFSETTO:+0000
TZNAME:UTC
DTSTART:20220101T000000
END:STANDARD
END:VTIMEZONE
BEGIN:VEVENT
DTSTART;TZID=UTC:20230616T080000
DTEND;TZID=UTC:20230616T090000
DTSTAMP:20260424T162818
CREATED:20230207T050658Z
LAST-MODIFIED:20230425T042029Z
UID:8507-1686902400-1686906000@trainwest.ca
SUMMARY:Group Coaching Call – Sales Training & Development Training [BY INVITE ONLY]
DESCRIPTION:
URL:https://trainwest.ca/event/group-coaching-call-sales-training-development-training-70/
LOCATION:Trainwest – Online Webinar
CATEGORIES:Group Coaching - Sales
ORGANIZER;CN="Trainwest Online Academy":MAILTO:info@trainwest.ca
END:VEVENT
BEGIN:VEVENT
DTSTART;TZID=UTC:20230630T080000
DTEND;TZID=UTC:20230630T090000
DTSTAMP:20260424T162818
CREATED:20230207T050723Z
LAST-MODIFIED:20230425T042033Z
UID:8509-1688112000-1688115600@trainwest.ca
SUMMARY:Group Coaching Call – Sales Training & Development Training [BY INVITE ONLY]
DESCRIPTION:
URL:https://trainwest.ca/event/group-coaching-call-sales-training-development-training-71/
LOCATION:Trainwest – Online Webinar
CATEGORIES:Group Coaching - Sales
ORGANIZER;CN="Trainwest Online Academy":MAILTO:info@trainwest.ca
END:VEVENT
BEGIN:VEVENT
DTSTART;TZID=UTC:20250124T080000
DTEND;TZID=UTC:20250124T090000
DTSTAMP:20260424T162818
CREATED:20250204T045017Z
LAST-MODIFIED:20250204T045017Z
UID:8752-1737705600-1737709200@trainwest.ca
SUMMARY:Group Coaching Call – Sales Training & Development Training [BY INVITE ONLY]
DESCRIPTION:
URL:https://trainwest.ca/event/group-coaching-call-sales-training-development-training-by-invite-only/
LOCATION:Trainwest – Online Webinar
CATEGORIES:Group Coaching - Sales
ORGANIZER;CN="Trainwest Online Academy":MAILTO:info@trainwest.ca
END:VEVENT
BEGIN:VEVENT
DTSTART;TZID=UTC:20250221T080000
DTEND;TZID=UTC:20250221T090000
DTSTAMP:20260424T162818
CREATED:20250204T045043Z
LAST-MODIFIED:20250204T045043Z
UID:8754-1740124800-1740128400@trainwest.ca
SUMMARY:Group Coaching Call – Sales Training & Development Training [BY INVITE ONLY]
DESCRIPTION:
URL:https://trainwest.ca/event/group-coaching-call-sales-training-development-training-by-invite-only-2/
LOCATION:Trainwest – Online Webinar
CATEGORIES:Group Coaching - Sales
ORGANIZER;CN="Trainwest Online Academy":MAILTO:info@trainwest.ca
END:VEVENT
BEGIN:VEVENT
DTSTART;TZID=UTC:20250328T080000
DTEND;TZID=UTC:20250328T090000
DTSTAMP:20260424T162818
CREATED:20250311T045009Z
LAST-MODIFIED:20250311T045009Z
UID:8770-1743148800-1743152400@trainwest.ca
SUMMARY:Group Coaching Call – Sales Training & Development Training [BY INVITE ONLY]
DESCRIPTION:
URL:https://trainwest.ca/event/group-coaching-call-sales-training-development-training-by-invite-only-3/
LOCATION:Trainwest – Online Webinar
CATEGORIES:Group Coaching - Sales
ORGANIZER;CN="Trainwest Online Academy":MAILTO:info@trainwest.ca
END:VEVENT
BEGIN:VEVENT
DTSTART;TZID=UTC:20250627T080000
DTEND;TZID=UTC:20250627T090000
DTSTAMP:20260424T162818
CREATED:20250603T032203Z
LAST-MODIFIED:20250603T032203Z
UID:8801-1751011200-1751014800@trainwest.ca
SUMMARY:Group Coaching Call – Sales Training & Development Training [BY INVITE ONLY]
DESCRIPTION:
URL:https://trainwest.ca/event/group-coaching-call-sales-training-development-training-by-invite-only-5/
LOCATION:Trainwest – Online Webinar
CATEGORIES:Group Coaching - Sales
ORGANIZER;CN="Trainwest Online Academy":MAILTO:info@trainwest.ca
END:VEVENT
END:VCALENDAR