BEGIN:VCALENDAR
VERSION:2.0
PRODID:-//Trainwest Online Academy - ECPv6.15.12.2//NONSGML v1.0//EN
CALSCALE:GREGORIAN
METHOD:PUBLISH
X-WR-CALNAME:Trainwest Online Academy
X-ORIGINAL-URL:https://trainwest.ca
X-WR-CALDESC:Events for Trainwest Online Academy
REFRESH-INTERVAL;VALUE=DURATION:PT1H
X-Robots-Tag:noindex
X-PUBLISHED-TTL:PT1H
BEGIN:VTIMEZONE
TZID:UTC
BEGIN:STANDARD
TZOFFSETFROM:+0000
TZOFFSETTO:+0000
TZNAME:UTC
DTSTART:20220101T000000
END:STANDARD
END:VTIMEZONE
BEGIN:VEVENT
DTSTART;TZID=UTC:20230602T080000
DTEND;TZID=UTC:20230602T090000
DTSTAMP:20260423T164146
CREATED:20230207T050631Z
LAST-MODIFIED:20230425T042027Z
UID:8505-1685692800-1685696400@trainwest.ca
SUMMARY:Group Coaching Call – Sales Training & Development Training [BY INVITE ONLY]
DESCRIPTION:
URL:https://trainwest.ca/event/group-coaching-call-sales-training-development-training-69/
LOCATION:Trainwest – Online Webinar
CATEGORIES:Group Coaching - Sales
ORGANIZER;CN="Trainwest Online Academy":MAILTO:info@trainwest.ca
END:VEVENT
BEGIN:VEVENT
DTSTART;TZID=UTC:20230616T080000
DTEND;TZID=UTC:20230616T090000
DTSTAMP:20260423T164146
CREATED:20230207T050658Z
LAST-MODIFIED:20230425T042029Z
UID:8507-1686902400-1686906000@trainwest.ca
SUMMARY:Group Coaching Call – Sales Training & Development Training [BY INVITE ONLY]
DESCRIPTION:
URL:https://trainwest.ca/event/group-coaching-call-sales-training-development-training-70/
LOCATION:Trainwest – Online Webinar
CATEGORIES:Group Coaching - Sales
ORGANIZER;CN="Trainwest Online Academy":MAILTO:info@trainwest.ca
END:VEVENT
BEGIN:VEVENT
DTSTART;TZID=UTC:20230630T080000
DTEND;TZID=UTC:20230630T090000
DTSTAMP:20260423T164146
CREATED:20230207T050723Z
LAST-MODIFIED:20230425T042033Z
UID:8509-1688112000-1688115600@trainwest.ca
SUMMARY:Group Coaching Call – Sales Training & Development Training [BY INVITE ONLY]
DESCRIPTION:
URL:https://trainwest.ca/event/group-coaching-call-sales-training-development-training-71/
LOCATION:Trainwest – Online Webinar
CATEGORIES:Group Coaching - Sales
ORGANIZER;CN="Trainwest Online Academy":MAILTO:info@trainwest.ca
END:VEVENT
END:VCALENDAR