BEGIN:VCALENDAR
VERSION:2.0
PRODID:-//Trainwest Online Academy - ECPv6.15.12.2//NONSGML v1.0//EN
CALSCALE:GREGORIAN
METHOD:PUBLISH
X-ORIGINAL-URL:https://trainwest.ca
X-WR-CALDESC:Events for Trainwest Online Academy
REFRESH-INTERVAL;VALUE=DURATION:PT1H
X-Robots-Tag:noindex
X-PUBLISHED-TTL:PT1H
BEGIN:VTIMEZONE
TZID:UTC
BEGIN:STANDARD
TZOFFSETFROM:+0000
TZOFFSETTO:+0000
TZNAME:UTC
DTSTART:20230101T000000
END:STANDARD
END:VTIMEZONE
BEGIN:VEVENT
DTSTART;TZID=UTC:20240910T080000
DTEND;TZID=UTC:20240910T090000
DTSTAMP:20260420T103904
CREATED:20240903T042043Z
LAST-MODIFIED:20240903T042043Z
UID:8704-1725955200-1725958800@trainwest.ca
SUMMARY:Life Lessons From Inspirational Leaders - Sales Training & Development Program
DESCRIPTION:Seminar Description:\nThere are inspirational leaders we all know of or have heard of who we can learn from. When you think of inspirational leaders\, who comes to mind? These inspirational leaders can teach us life lessons if we keep our mind open and are willing to let others in. These individuals inspire us all to achieve more\, make the world a better place\, and to never give up on our dreams\, no matter how big or small they may be. \nIn this session we will review life lessons from others and see how you can implement into your daily activities
URL:https://trainwest.ca/event/life-lessons-from-inspirational-leaders-sales-training-development-program-13/
LOCATION:Trainwest – Online Webinar
CATEGORIES:Sales Training & Development Program
ORGANIZER;CN="Trainwest Online Academy":MAILTO:info@trainwest.ca
END:VEVENT
END:VCALENDAR